BEGIN:VCALENDAR
VERSION:2.0
PRODID:-//wp-events-plugin.com//6.4.6.4//EN
TZID:America/Detroit
X-WR-TIMEZONE:America/Detroit
BEGIN:VEVENT
UID:0-768@sites.udmercy.edu
DTSTART;TZID=America/Detroit:20250331T170000
DTEND;TZID=America/Detroit:20250331T190000
DTSTAMP:20250305T212838Z
URL:https://sites.udmercy.edu/campusconnection/events/school-of-optometry-
 open-house/
SUMMARY:School of Optometry open house
DESCRIPTION:The School of Optometry at Detroit Mercy will hold an open hous
 e for prospective students and families from 5-7 p.m. on Monday\, March 31
 \, at the University's Novi Campus\, 4155 W. 12 Mile Road in Novi.\n\nThe 
 event includes an inside look at the new Doctor of Optometry program inclu
 ding a tour of the Novi campus and Detroit Mercy Eye Institute\, an admiss
 ions presentation and an opportunity to meet School of Optometry leadershi
 p\, faculty and admissions team.\nRSVP here.
LOCATION:Novi Campus\, 4155 W. 12 Mile Road\, Novi\, MI\, 48377\, United St
 ates
X-APPLE-STRUCTURED-LOCATION;VALUE=URI;X-ADDRESS=4155 W. 12 Mile Road\, Novi
 \, MI\, 48377\, United States;X-APPLE-RADIUS=100;X-TITLE=Novi Campus:geo:0
 ,0
END:VEVENT
BEGIN:VTIMEZONE
TZID:America/Detroit
X-LIC-LOCATION:America/Detroit
BEGIN:DAYLIGHT
DTSTART:20250309T030000
TZOFFSETFROM:-0500
TZOFFSETTO:-0400
TZNAME:EDT
END:DAYLIGHT
END:VTIMEZONE
END:VCALENDAR