BEGIN:VCALENDAR
VERSION:2.0
PRODID:-//wp-events-plugin.com//6.4.6.4//EN
TZID:America/Detroit
X-WR-TIMEZONE:America/Detroit
BEGIN:VEVENT
UID:0-318@sites.udmercy.edu
DTSTART;TZID=America/Detroit:20231129T140000
DTEND;TZID=America/Detroit:20231129T150000
DTSTAMP:20231121T040859Z
URL:https://sites.udmercy.edu/campusconnection/events/self-defense-course/
SUMMARY:Self-Defense Course
DESCRIPTION:Learn the basics of self-defense in this free\, interactive cou
 rse offered by a personal safety and martial arts expert on Wednesday\, No
 v. 29 from 2-3 p.m. in the Group Activities Room of the Student Fitness Ce
 nter. All students and employees are welcome!\n\nStudies show that self-de
 fense courses improve confidence and reduce women's vulnerability to viole
 nce. Focused on situational awareness\, personal assertiveness and verbal 
 and physical strategies for keeping yourself safe\, this course teaches se
 lf-defense techniques in a fun\, empowering environment.\n\nThe event is s
 ponsored by the Office of Title IX and the Women's and Gender Studies Prog
 ram at Detroit Mercy.\nRegister for the course!
LOCATION:Student Fitness Center\, 4001 W. McNichols Road\, Detroit\, MI\, 4
 8221\, United States
X-APPLE-STRUCTURED-LOCATION;VALUE=URI;X-ADDRESS=4001 W. McNichols Road\, De
 troit\, MI\, 48221\, United States;X-APPLE-RADIUS=100;X-TITLE=Student Fitn
 ess Center:geo:0,0
END:VEVENT
BEGIN:VTIMEZONE
TZID:America/Detroit
X-LIC-LOCATION:America/Detroit
BEGIN:STANDARD
DTSTART:20231105T010000
TZOFFSETFROM:-0400
TZOFFSETTO:-0500
TZNAME:EST
END:STANDARD
END:VTIMEZONE
END:VCALENDAR