BEGIN:VCALENDAR
VERSION:2.0
PRODID:-//wp-events-plugin.com//6.4.6.4//EN
TZID:America/Detroit
X-WR-TIMEZONE:America/Detroit
BEGIN:VEVENT
UID:0-719@sites.udmercy.edu
DTSTART;TZID=America/Detroit:20250206T170000
DTEND;TZID=America/Detroit:20250206T183000
DTSTAMP:20250203T143356Z
URL:https://sites.udmercy.edu/campusconnection/events/society-of-women-eng
 ineers-discussion-on-workplace-harassment-set-for-feb-6/
SUMMARY:Society of Women Engineers: Discussion on Workplace Harassment
DESCRIPTION:Please join the Society of Women Engineers (SWE) for a roundtab
 le discussion on preventing\, recognizing and responding to workplace sexu
 al harassment. This event will take place on Thursday\, Feb. 6 at 5-6:30 p
 .m. in the Engineering Building\, Room 120.\n\n SWE has invited Detroit Me
 rcy's Co-Director of the Women's and Gender Studies Program Amanda Hiber\,
  Executive Director of Equal Opportunity Megan Novell and Assistant Direct
 or of Human Resources Kim Slappy to join a conversation about the differen
 t forms harassment can take and how we can respond. \n\nThis event is gear
 ed toward women beginning their careers\, but all are welcome to join and 
 share their experiences. Join us for dinner\, dessert and great discussion
 s!
LOCATION:Engineering Building\, Room 120\, 4001 W. McNichols Road\, Detroit
 \, Michigan\, 48221\, United States
X-APPLE-STRUCTURED-LOCATION;VALUE=URI;X-ADDRESS=4001 W. McNichols Road\, De
 troit\, Michigan\, 48221\, United States;X-APPLE-RADIUS=100;X-TITLE=Engine
 ering Building\, Room 120:geo:0,0
END:VEVENT
BEGIN:VTIMEZONE
TZID:America/Detroit
X-LIC-LOCATION:America/Detroit
BEGIN:STANDARD
DTSTART:20241103T010000
TZOFFSETFROM:-0400
TZOFFSETTO:-0500
TZNAME:EST
END:STANDARD
END:VTIMEZONE
END:VCALENDAR