BEGIN:VCALENDAR
VERSION:2.0
PRODID:-//wp-events-plugin.com//6.4.6.4//EN
TZID:America/Detroit
X-WR-TIMEZONE:America/Detroit
BEGIN:VEVENT
UID:0-1030@sites.udmercy.edu
DTSTART;TZID=America/Detroit:20260219T090000
DTEND;TZID=America/Detroit:20260219T090000
DTSTAMP:20260209T190824Z
URL:https://sites.udmercy.edu/campusconnection/events/spirit-store-student
 -appreciation-event/
SUMMARY:Spirit Store student appreciation event
DESCRIPTION:The Spirit Store is hosting a student appreciation event on Thu
 rsday\, Feb. 19. UDM students are invited to visit the Spirit Store in the
  Lower Level of Student Union and receive 20% off clothing and gifts (see 
 store for details).
LOCATION:Spirit Store\, Student Union\, Lower Level\, 4001 W. McNichols Roa
 d\, Detroit\, MI\, 48221\, United States
X-APPLE-STRUCTURED-LOCATION;VALUE=URI;X-ADDRESS=4001 W. McNichols Road\, De
 troit\, MI\, 48221\, United States;X-APPLE-RADIUS=100;X-TITLE=Spirit Store
 \, Student Union\, Lower Level:geo:0,0
END:VEVENT
BEGIN:VTIMEZONE
TZID:America/Detroit
X-LIC-LOCATION:America/Detroit
BEGIN:STANDARD
DTSTART:20251102T010000
TZOFFSETFROM:-0400
TZOFFSETTO:-0500
TZNAME:EST
END:STANDARD
END:VTIMEZONE
END:VCALENDAR