BEGIN:VCALENDAR
VERSION:2.0
PRODID:-//wp-events-plugin.com//6.4.6.4//EN
TZID:America/Detroit
X-WR-TIMEZONE:America/Detroit
BEGIN:VEVENT
UID:0-690@sites.udmercy.edu
DTSTART;TZID=America/Detroit:20250127T160000
DTEND;TZID=America/Detroit:20250127T180000
DTSTAMP:20250117T200731Z
URL:https://sites.udmercy.edu/campusconnection/events/sr-judys-celebration
 -of-life/
SUMMARY:Sr. Judy's Celebration of Life
DESCRIPTION:Detroit Mercy community\, please join us as we remember\, celeb
 rate and share memories of Sr. Judy Mouch\, RSM on Monday\, Jan. 27.\n\nA 
 Mass of Remembrance will be held in the Fountain Lounge of the Student Uni
 on at 4 p.m.\, followed by a Celebration of Life reception and program at 
 4:45 p.m. in the Student Union Ballroom on the McNichols Campus.\n\nFor th
 ose who would like to make a gift in memory of Sr. Judy\, the University h
 as established the Sr. Judith A. Mouch\, RSM Endowed Scholarship. The scho
 larship has been established to honor her\, a beloved member of both the S
 isters of Mercy and Detroit Mercy communities.\n\nThis scholarship\, initi
 ated through a gift from the estate of Mercy College alumna Patricia Beck\
 , will support nursing students annually\, continuing Sr. Judy's legacy of
  compassion and service. We invite you to celebrate her life and impact by
  contributing to this scholarship fund.\n\nSr. Judy was a much-beloved mem
 ber of the University community since 1995. She entered eternal life on De
 c. 14\, 2024 at age 77.
LOCATION:Student Union\, 4001 W. McNichols Road\, Detroit\, Michigan\, 4822
 1\, United States
X-APPLE-STRUCTURED-LOCATION;VALUE=URI;X-ADDRESS=4001 W. McNichols Road\, De
 troit\, Michigan\, 48221\, United States;X-APPLE-RADIUS=100;X-TITLE=Studen
 t Union:geo:0,0
END:VEVENT
BEGIN:VTIMEZONE
TZID:America/Detroit
X-LIC-LOCATION:America/Detroit
BEGIN:STANDARD
DTSTART:20241103T010000
TZOFFSETFROM:-0400
TZOFFSETTO:-0500
TZNAME:EST
END:STANDARD
END:VTIMEZONE
END:VCALENDAR