BEGIN:VCALENDAR
VERSION:2.0
PRODID:-//wp-events-plugin.com//6.4.6.4//EN
TZID:America/Detroit
X-WR-TIMEZONE:America/Detroit
BEGIN:VEVENT
UID:0-752@sites.udmercy.edu
DTSTART;TZID=America/Detroit:20250310T130000
DTEND;TZID=America/Detroit:20250310T143000
DTSTAMP:20250224T194143Z
URL:https://sites.udmercy.edu/campusconnection/events/student-directed-one
 -acts-call-out-for-auditions/
SUMMARY:Student-directed one acts call out for auditions
DESCRIPTION:Detroit Mercy students\, have you wanted to act on stage but ha
 ven’t had the time to commit? Now’s your chance! Audition for Emerging
  Voices: Student-directed One Acts! Low commitment\, limited rehearsals an
 d lots of fun!\n\nAuditions for the student-directed 10-minute plays will 
 be held on March 10 from 1-2:30 p.m. in Reno Hall\, Room 164. Audition sid
 es will be emailed to you before the audition. If you cannot make the audi
 tion\, student directors may reach out to you to discuss individual auditi
 ons.\n\nThe final performance of the plays will take place on April 25 fro
 m 12-3 p.m. in Reno Hall\, Room 164.\n\nCome be part of something exciting
 ! No experience necessary!\nSign up here!
LOCATION:Reno Hall\, Room 164\, 4001 W. McNichols Road\, Detroit\, Michigan
 \, 48221\, United States
X-APPLE-STRUCTURED-LOCATION;VALUE=URI;X-ADDRESS=4001 W. McNichols Road\, De
 troit\, Michigan\, 48221\, United States;X-APPLE-RADIUS=100;X-TITLE=Reno H
 all\, Room 164:geo:0,0
END:VEVENT
BEGIN:VTIMEZONE
TZID:America/Detroit
X-LIC-LOCATION:America/Detroit
BEGIN:DAYLIGHT
DTSTART:20250309T030000
TZOFFSETFROM:-0500
TZOFFSETTO:-0400
TZNAME:EDT
END:DAYLIGHT
END:VTIMEZONE
END:VCALENDAR