BEGIN:VCALENDAR
VERSION:2.0
PRODID:-//wp-events-plugin.com//6.4.6.4//EN
TZID:America/Detroit
X-WR-TIMEZONE:America/Detroit
BEGIN:VEVENT
UID:0-613@sites.udmercy.edu
DTSTART;TZID=America/Detroit:20241109T090000
DTEND;TZID=America/Detroit:20241109T170000
DTSTAMP:20241105T195145Z
URL:https://sites.udmercy.edu/campusconnection/events/student-organization
 -leadership-conference/
SUMMARY:Student Organization Leadership Conference
DESCRIPTION:Join us for a full day of leadership development\, connection a
 nd fun! The Student Org Leadership Conference will take place on Saturday\
 , Nov. 9 in the Student Union Ballroom on the McNichols Campus and is des
 igned to support and empower student leaders across campus. This year\, we
 ’re excited to announce a Student Orgs Blackboard platform where student
 s will have access to resources and event postings. More details about thi
 s Blackboard addition will be shared at the conference\nMorning Session\n\
 n 	Time: 9:00 a.m. to noon\n 	Audience: All Student Organization Executive
  Boards\n 	Activities: Engage with a guest speaker\, join interactive work
 shops and connect with other organizations. Win prizes and swag during act
 ivity challenges!\n\nAfternoon Session\n\n 	Time: 1-5 p.m.\n 	Audience: Al
 l Fraternity and Sorority members\n 	Activities: Hear from a guest speaker
 \, network with other chapters and build leadership skills unique to Greek
  Life. Prizes and swag available in this session too!\n\nNote: If you are 
 in Greek Life and on a general E-Board\, attend the afternoon session and 
 have other board members attend in the morning.\n\nSnacks and beverages wi
 ll be available throughout the day.\n RSVP HERE!
LOCATION:Student Union Ballroom\, McNichols Campus\, 4001 W. McNichols\, De
 troit\, MI\, 48221\, United States
X-APPLE-STRUCTURED-LOCATION;VALUE=URI;X-ADDRESS=4001 W. McNichols\, Detroit
 \, MI\, 48221\, United States;X-APPLE-RADIUS=100;X-TITLE=Student Union Bal
 lroom\, McNichols Campus:geo:0,0
END:VEVENT
BEGIN:VTIMEZONE
TZID:America/Detroit
X-LIC-LOCATION:America/Detroit
BEGIN:STANDARD
DTSTART:20241103T010000
TZOFFSETFROM:-0400
TZOFFSETTO:-0500
TZNAME:EST
END:STANDARD
END:VTIMEZONE
END:VCALENDAR