BEGIN:VCALENDAR
VERSION:2.0
PRODID:-//wp-events-plugin.com//6.4.6.4//EN
TZID:America/Detroit
X-WR-TIMEZONE:America/Detroit
BEGIN:VEVENT
UID:0-307@sites.udmercy.edu
DTSTART;TZID=America/Detroit:20231112T190000
DTEND;TZID=America/Detroit:20231112T204500
DTSTAMP:20231108T163810Z
URL:https://sites.udmercy.edu/campusconnection/events/sustenance-spiritual
 ity-and-community/
SUMMARY:Study\, Sustenance and Spirituality
DESCRIPTION:Detroit Mercy students are invited for pizza\, community and st
 udying together 7-8:45 p.m. Sunday\, Nov. 12!\nMeet in Commerce and Finan
 ce\, Room 118 with Mass following. The next meeting will take place on the
  next second Sunday — Dec. 10.
LOCATION:Commerce &amp\; Finance Building\, Room 118\, 4001 W. McNichols Ro
 ad\, Detroit\, Michigan\, 48221\, United States
X-APPLE-STRUCTURED-LOCATION;VALUE=URI;X-ADDRESS=4001 W. McNichols Road\, De
 troit\, Michigan\, 48221\, United States;X-APPLE-RADIUS=100;X-TITLE=Commer
 ce & Finance Building\, Room 118:geo:0,0
END:VEVENT
BEGIN:VTIMEZONE
TZID:America/Detroit
X-LIC-LOCATION:America/Detroit
BEGIN:STANDARD
DTSTART:20231105T010000
TZOFFSETFROM:-0400
TZOFFSETTO:-0500
TZNAME:EST
END:STANDARD
END:VTIMEZONE
END:VCALENDAR