BEGIN:VCALENDAR
VERSION:2.0
PRODID:-//wp-events-plugin.com//6.4.6.4//EN
TZID:America/Detroit
X-WR-TIMEZONE:America/Detroit
BEGIN:VEVENT
UID:0-6@sites.udmercy.edu
DTSTART;TZID=America/Detroit:20220419T130000
DTEND;TZID=America/Detroit:20220419T140000
DTSTAMP:20220414T173039Z
URL:https://sites.udmercy.edu/campusconnection/events/synod-process-meetin
 g/
SUMMARY:Synod Process meeting\, hosted by OMI\, Ministry
DESCRIPTION:Detroit Mercy's Office of Mission Integration and University Mi
 nistry will host a Synod Process meeting on Tuesday\, April 19 from 1-2 p.
 m. The meeting is virtual and open to all.\n\nThe Synod Process is an inv
 itation to all Detroit Mercy faculty\, staff and students to participate i
 n a listening and sharing session about your experiences with the Church.\
 n\nIt's open to the whole Detroit Mercy community\, including people of al
 l faith backgrounds.\nRegister for the virtual meeting.
LOCATION:https://udmercy-edu.zoom.us/meeting/register/tJMvdOqqpjsrGtP9bIAwG
 -rgtxt1-R45KKiP
END:VEVENT
BEGIN:VTIMEZONE
TZID:America/Detroit
X-LIC-LOCATION:America/Detroit
BEGIN:DAYLIGHT
DTSTART:20220313T030000
TZOFFSETFROM:-0500
TZOFFSETTO:-0400
TZNAME:EDT
END:DAYLIGHT
END:VTIMEZONE
END:VCALENDAR