BEGIN:VCALENDAR
VERSION:2.0
PRODID:-//wp-events-plugin.com//6.4.6.4//EN
TZID:America/Detroit
X-WR-TIMEZONE:America/Detroit
BEGIN:VEVENT
UID:0-754@sites.udmercy.edu
DTSTART;TZID=America/Detroit;VALUE=DATE:20250310
DTEND;TZID=America/Detroit;VALUE=DATE:20250326
DTSTAMP:20250225T133924Z
URL:https://sites.udmercy.edu/campusconnection/events/tenn-clothing-drive/
SUMMARY:TENN clothing drive
DESCRIPTION:Clear out your closet for a cause! Students and faculty are inv
 ited to support Titan Equity Nourish Network's (TENN) Thrift and Pop-Up Sh
 op event by donating gently used or new clothing. Schedule your drop-off b
 etween March 10-25 using the link below and help make sustainable fashion 
 accessible to all!\n\nThe student or faculty group that donates the most c
 lothing will win a pizza party! To enter\, mention your group name when dr
 opping off donations.\n\nDonate\, declutter and make a difference!\nSchedu
 le donation drop-off here!
END:VEVENT
BEGIN:VTIMEZONE
TZID:America/Detroit
X-LIC-LOCATION:America/Detroit
BEGIN:DAYLIGHT
DTSTART:20250309T030000
TZOFFSETFROM:-0500
TZOFFSETTO:-0400
TZNAME:EDT
END:DAYLIGHT
END:VTIMEZONE
END:VCALENDAR