BEGIN:VCALENDAR
VERSION:2.0
PRODID:-//wp-events-plugin.com//6.4.6.4//EN
TZID:America/Detroit
X-WR-TIMEZONE:America/Detroit
BEGIN:VEVENT
UID:0-735@sites.udmercy.edu
DTSTART;TZID=America/Detroit:20250228T170000
DTEND;TZID=America/Detroit:20250228T170000
DTSTAMP:20250204T182259Z
URL:https://sites.udmercy.edu/campusconnection/events/tenn-game-night/
SUMMARY:TENN game night
DESCRIPTION:Head over to Commerce &amp\; Finance for some friendly competit
 ion and camaraderie with your fellow Titans and UDM neighbors at the TENN 
 game night. Snacks and prizes will be available amidst the fun!\n\nThis ev
 ent is sponsored by TENN.
LOCATION:Commerce &amp\; Finance Building\, Room 104\, 4001 W. McNichols Ro
 ad\, Detroit\, MI\, 48221\, United States
X-APPLE-STRUCTURED-LOCATION;VALUE=URI;X-ADDRESS=4001 W. McNichols Road\, De
 troit\, MI\, 48221\, United States;X-APPLE-RADIUS=100;X-TITLE=Commerce & F
 inance Building\, Room 104:geo:0,0
END:VEVENT
BEGIN:VTIMEZONE
TZID:America/Detroit
X-LIC-LOCATION:America/Detroit
BEGIN:STANDARD
DTSTART:20241103T010000
TZOFFSETFROM:-0400
TZOFFSETTO:-0500
TZNAME:EST
END:STANDARD
END:VTIMEZONE
END:VCALENDAR