BEGIN:VCALENDAR
VERSION:2.0
PRODID:-//wp-events-plugin.com//6.4.6.4//EN
TZID:America/Detroit
X-WR-TIMEZONE:America/Detroit
BEGIN:VEVENT
UID:0-136@sites.udmercy.edu
DTSTART;TZID=America/Detroit:20221209T130000
DTEND;TZID=America/Detroit:20221209T140000
DTSTAMP:20221206T053313Z
URL:https://sites.udmercy.edu/campusconnection/events/tenn-holiday-social-
 event/
SUMMARY:TENN holiday social event
DESCRIPTION:Help celebrate the Titan Equity Nourish Network with a holiday 
 party in the lower level of the Student Union on Friday\, Dec. 9 from 1-2 
 p.m.\n\nCelebrate TENN's volunteers and members and meet TENN's new manage
 r\, Chelsea Manning. Also learn about upcoming TENN volunteering opportuni
 ties. Cookies and snacks will be provided!
LOCATION:Student Union\, 4001 W. McNichols Road\, Detroit\, Michigan\, 4822
 1\, United States
X-APPLE-STRUCTURED-LOCATION;VALUE=URI;X-ADDRESS=4001 W. McNichols Road\, De
 troit\, Michigan\, 48221\, United States;X-APPLE-RADIUS=100;X-TITLE=Studen
 t Union:geo:0,0
END:VEVENT
BEGIN:VTIMEZONE
TZID:America/Detroit
X-LIC-LOCATION:America/Detroit
BEGIN:STANDARD
DTSTART:20221106T010000
TZOFFSETFROM:-0400
TZOFFSETTO:-0500
TZNAME:EST
END:STANDARD
END:VTIMEZONE
END:VCALENDAR