BEGIN:VCALENDAR
VERSION:2.0
PRODID:-//wp-events-plugin.com//6.4.6.4//EN
TZID:America/Detroit
X-WR-TIMEZONE:America/Detroit
BEGIN:VEVENT
UID:0-126@sites.udmercy.edu
DTSTART;TZID=America/Detroit:20221112T120000
DTEND;TZID=America/Detroit:20221112T160000
DTSTAMP:20221108T174828Z
URL:https://sites.udmercy.edu/campusconnection/events/tenn-welcome-party/
SUMMARY:TENN welcome party
DESCRIPTION:Help welcome Titan Equity Nourish Network‘s new manager\, Ch
 elsea Manning\, with an open house-style welcome party on Saturday\, Nov.
  12 from noon to 4 p.m.\n\nTENN alumna Melba Dearing will be helping host 
 the party at Bert’s Marketplace\, 2727 Russell St.\, in Detroit.\n\nCome
  welcome Chelsea\, support TENN\, enjoy some karaoke at Bert’s and visit
  Eastern Market all in the same trip. Everyone is welcome!\n\nFor question
 s or to RSVP\, email tenn@udmercy.edu.
LOCATION:Bert's Marketplace\, 2727 Russell Street\, Detroit\, Michigan\, 48
 221\, United States
X-APPLE-STRUCTURED-LOCATION;VALUE=URI;X-ADDRESS=2727 Russell Street\, Detro
 it\, Michigan\, 48221\, United States;X-APPLE-RADIUS=100;X-TITLE=Bert's Ma
 rketplace:geo:0,0
END:VEVENT
BEGIN:VTIMEZONE
TZID:America/Detroit
X-LIC-LOCATION:America/Detroit
BEGIN:STANDARD
DTSTART:20221106T010000
TZOFFSETFROM:-0400
TZOFFSETTO:-0500
TZNAME:EST
END:STANDARD
END:VTIMEZONE
END:VCALENDAR