BEGIN:VCALENDAR
VERSION:2.0
PRODID:-//wp-events-plugin.com//6.4.6.4//EN
TZID:America/Detroit
X-WR-TIMEZONE:America/Detroit
BEGIN:VEVENT
UID:0-292@sites.udmercy.edu
DTSTART;TZID=America/Detroit:20231106T090000
DTEND;TZID=America/Detroit:20231106T160000
DTSTAMP:20231013T015534Z
URL:https://sites.udmercy.edu/campusconnection/events/tenns-compost-collec
 tion-2/
SUMMARY:TENN's compost collection
DESCRIPTION:Compete to be the most sustainable student organization or grou
 p and win a pizza party with Titan Equity Nourish Network’s compost comp
 etition on Friday\, Nov. 3 and Monday\, Nov. 6.\n\nTENN will be collecting
  compostable material on both Nov. 3 and Nov. 6 from 9 a.m. to 4 p.m. in L
 ot F.\n\nFor more information and to get your compost kit\, please contact
  TENN by email at tenn@udmercy.edu.
LOCATION:Lot F\, University of Detroit Mercy\, 4001 W. McNichols Road\, Det
 roit\, Michigan\, 48221\, United States
X-APPLE-STRUCTURED-LOCATION;VALUE=URI;X-ADDRESS=4001 W. McNichols Road\, De
 troit\, Michigan\, 48221\, United States;X-APPLE-RADIUS=100;X-TITLE=Lot F\
 , University of Detroit Mercy:geo:0,0
END:VEVENT
BEGIN:VTIMEZONE
TZID:America/Detroit
X-LIC-LOCATION:America/Detroit
BEGIN:STANDARD
DTSTART:20231105T010000
TZOFFSETFROM:-0400
TZOFFSETTO:-0500
TZNAME:EST
END:STANDARD
END:VTIMEZONE
END:VCALENDAR