BEGIN:VCALENDAR
VERSION:2.0
PRODID:-//wp-events-plugin.com//6.4.6.4//EN
TZID:America/Detroit
X-WR-TIMEZONE:America/Detroit
BEGIN:VEVENT
UID:0-293@sites.udmercy.edu
DTSTART;TZID=America/Detroit:20231026T100000
DTEND;TZID=America/Detroit:20231026T150000
DTSTAMP:20231025T124528Z
URL:https://sites.udmercy.edu/campusconnection/events/tenns-cooking-day/
SUMMARY:TENN's Cooking Day
DESCRIPTION:Join Detroit Mercy's Titan Equity Nourish Network (TENN) in hel
 ping to prepare the meal for the upcoming Community Meal.\n\nVolunteer at 
 the Cooking Day on Thursday\, Oct. 26 from 10 a.m. to 3 p.m. at 16100 Law
 ton Street\, just a few blocks east of the McNichols Campus in Detroit. Th
 ere's two volunteer shifts — 10 a.m. to 12:30 p.m. and 12:30-3 p.m.\n\nW
 ith any questions\, please contact TENN by email at tenn@udmercy.edu.\nRSV
 P for Cooking Day.
END:VEVENT
BEGIN:VTIMEZONE
TZID:America/Detroit
X-LIC-LOCATION:America/Detroit
BEGIN:DAYLIGHT
DTSTART:20230312T030000
TZOFFSETFROM:-0500
TZOFFSETTO:-0400
TZNAME:EDT
END:DAYLIGHT
END:VTIMEZONE
END:VCALENDAR