BEGIN:VCALENDAR
VERSION:2.0
PRODID:-//wp-events-plugin.com//6.4.6.4//EN
TZID:America/Detroit
X-WR-TIMEZONE:America/Detroit
BEGIN:VEVENT
UID:0-131@sites.udmercy.edu
DTSTART;TZID=America/Detroit:20221201T124500
DTEND;TZID=America/Detroit:20221201T140000
DTSTAMP:20221128T164807Z
URL:https://sites.udmercy.edu/campusconnection/events/tenns-creating-holid
 ay-gift-baskets/
SUMMARY:TENN's crafting holiday gift baskets
DESCRIPTION:Volunteer and create a few holiday gift baskets on Thursday\, D
 ec. 1 from 12:45-2 p.m. on the McNichols Campus with Detroit Mercy's Titan
  Equity Nourish Network (TENN)!\n\nThe gift baskets will be going to Princ
 eton Street residents\, also the recipient of TENN's produce deliveries! V
 olunteers will also be able to take home their own gift baskets.\n\nYou ca
 n earn service hours through this initiative!\n\nThe event is happening in
  the Commerce &amp\; Finance Building on the McNichols Campus\, with the r
 oom yet to be determined.\nSign-up for the event!
LOCATION:Commerce &amp\; Finance Building\, 4001 W. McNichols Road\, Detroi
 t\, Michigan\, 48221\, United States
X-APPLE-STRUCTURED-LOCATION;VALUE=URI;X-ADDRESS=4001 W. McNichols Road\, De
 troit\, Michigan\, 48221\, United States;X-APPLE-RADIUS=100;X-TITLE=Commer
 ce & Finance Building:geo:0,0
END:VEVENT
BEGIN:VTIMEZONE
TZID:America/Detroit
X-LIC-LOCATION:America/Detroit
BEGIN:STANDARD
DTSTART:20221106T010000
TZOFFSETFROM:-0400
TZOFFSETTO:-0500
TZNAME:EST
END:STANDARD
END:VTIMEZONE
END:VCALENDAR