BEGIN:VCALENDAR
VERSION:2.0
PRODID:-//wp-events-plugin.com//6.4.6.4//EN
TZID:America/Detroit
X-WR-TIMEZONE:America/Detroit
BEGIN:VEVENT
UID:0-309@sites.udmercy.edu
DTSTART;TZID=America/Detroit:20231203T100000
DTEND;TZID=America/Detroit:20231203T170000
DTSTAMP:20231113T141412Z
URL:https://sites.udmercy.edu/campusconnection/events/the-study-retreat/
SUMMARY:The Study Retreat
DESCRIPTION:University Ministry is hosting a retreat that allows you to bri
 ng your school work with you!\n\nThe Study Retreat is a chance to get off
  campus\, study in a quiet and relaxing space and have built in optional s
 tudy breaks that provide self-care and spiritual care into your life.\n\nI
 t will be held Sunday\, Dec. 3 from 10 a.m. to 5 p.m. at Maxis Spirit
 uality Center in Riverview\, Michigan. All transportation and food will be
  provided.\n\nWe will have time to share home-cooked meals together and be
  able to enter into finals prepared and equipped with the tools to take ca
 re of our whole persons as our mission calls us to through cura personali
 s\, which is the “care for the whole person\, body\, mind and soul.”\n
 \nThere is limited space for this retreat in order to create an ideal stud
 y environment for participants.\n\nFor questions or concerns\, please cont
 act University Minister for Faith Formation Anna Lawler at 313-993-1925 or
  by email at lawleran@udmercy.edu.\nSign-up for the Study Retreat.
LOCATION:Maxis Spirituality Center\, 17380 Grange Road\, Riverview\, Michig
 an\, 48193\, United States
X-APPLE-STRUCTURED-LOCATION;VALUE=URI;X-ADDRESS=17380 Grange Road\, Rivervi
 ew\, Michigan\, 48193\, United States;X-APPLE-RADIUS=100;X-TITLE=Maxis Spi
 rituality Center:geo:0,0
END:VEVENT
BEGIN:VTIMEZONE
TZID:America/Detroit
X-LIC-LOCATION:America/Detroit
BEGIN:STANDARD
DTSTART:20231105T010000
TZOFFSETFROM:-0400
TZOFFSETTO:-0500
TZNAME:EST
END:STANDARD
END:VTIMEZONE
END:VCALENDAR