BEGIN:VCALENDAR
VERSION:2.0
PRODID:-//wp-events-plugin.com//6.4.6.4//EN
TZID:America/Detroit
X-WR-TIMEZONE:America/Detroit
BEGIN:VEVENT
UID:0-324@sites.udmercy.edu
DTSTART;TZID=America/Detroit:20240217T110000
DTEND;TZID=America/Detroit:20240217T130000
DTSTAMP:20231214T200136Z
URL:https://sites.udmercy.edu/campusconnection/events/titan-winter-blast-2
 /
SUMMARY:Titan Winter Blast
DESCRIPTION:Join Detroit Mercy for its annual Titan Winter Blast\, which i
 s set for Saturday\, Feb. 17 from 11 a.m. to 1 p.m.\, followed by a UDM m
 en’s basketball contest\, all on the McNichols Campus.\n\nAll Titans —
  students\, alumni\, staff\, faculty\, friends\, family and guests — are
  welcome for a day of fun!\n\nThe wildly popular chili cook-off featuring 
 various teams from across the University’s campuses is back\, as well as
  coney dogs\, horse-drawn trolley rides\, fowling\, cookie decorating\, ki
 d-friendly games and activities and more!\n\nLive music will be played by 
 the Detroit Mercy Music Club and an open beer and wine bar will also be fe
 atured from North Center Brewing Company.\n\nFollowing the fun at the Stud
 ent Fitness Center\, head over to Calihan Hall as the Titans battle Purdue
  Fort Wayne at 1 p.m.\n\nCost for attendance is $10 for students and $20 f
 or alumni\, faculty\, staff and guests. Children 10 and under are free! Ad
 mission includes tastings at the chili cook-off\, open beer and wine bar\,
  picnic buffet\, all games and activities and a ticket to the men’s bask
 etball contest.\nRegister/Full Titan Winter Blast info.
LOCATION:University of Detroit Mercy\, 4001 W. McNichols Road\, Detroit\, M
 ichigan\, 48221\, United States
X-APPLE-STRUCTURED-LOCATION;VALUE=URI;X-ADDRESS=4001 W. McNichols Road\, De
 troit\, Michigan\, 48221\, United States;X-APPLE-RADIUS=100;X-TITLE=Univer
 sity of Detroit Mercy:geo:0,0
END:VEVENT
BEGIN:VTIMEZONE
TZID:America/Detroit
X-LIC-LOCATION:America/Detroit
BEGIN:STANDARD
DTSTART:20231105T010000
TZOFFSETFROM:-0400
TZOFFSETTO:-0500
TZNAME:EST
END:STANDARD
END:VTIMEZONE
END:VCALENDAR