BEGIN:VCALENDAR
VERSION:2.0
PRODID:-//wp-events-plugin.com//6.4.6.4//EN
TZID:America/Detroit
X-WR-TIMEZONE:America/Detroit
BEGIN:VEVENT
UID:0-140@sites.udmercy.edu
DTSTART;TZID=America/Detroit:20230204T110000
DTEND;TZID=America/Detroit:20230204T130000
DTSTAMP:20230103T163840Z
URL:https://sites.udmercy.edu/campusconnection/events/titan-winter-blast/
SUMMARY:Titan Winter Blast
DESCRIPTION:The Titan Winter Blast\, Detroit Mercy’s annual signature win
 ter event\, returns Saturday\, Feb. 4.\n\nJoin alumni\, students\, staff a
 nd faculty\, friends\, family and neighbors from 11 a.m. to 1 p.m. in the 
 Student Fitness Center on the McNichols Campus as we turn up the heat with
  homemade chili\, toasty drinks and Titan camaraderie.\n\nFun and festivit
 ies that Saturday include the popular Chili Cook-Off\, a casual buffet fea
 turing National Coney Island coneys\, an open bar featuring selections fro
 m North Center Brewing Company\, horse-drawn trolley rides through campus\
 , live music from Detroit Mercy’s Music Club\, fowling and numerous fami
 ly-friendly games and activities.\n\nAfter the tailgate\, head to Calihan 
 Hall to cheer on record-setting standout Antoine Davis and the Detroit Mer
 cy men’s basketball team\, as they host Purdue Fort Wayne at 1 p.m. on D
 ick Vitale Court. The Chili Cook-Off winner will be announced at halftime 
 of the contest.\n\nAdmission for alumni\, faculty\, staff and guests is $2
 0 before Jan. 26 ($25 after). Student admission is $5 before Jan. 26 ($10 
 after) and children ages 10 and under are free.\n\nYour Titan Winter Blast
  ticket includes chili tastings during the cook-off\, open beer and wine b
 ar\, picnic buffet\, family-friendly activities and fun\, as well as ticke
 ts to the Titan men’s basketball game.\nRegister for the event!
LOCATION:Student Fitness Center\, 4001 W. McNichols Road\, Detroit\, MI\, 4
 8221\, United States
X-APPLE-STRUCTURED-LOCATION;VALUE=URI;X-ADDRESS=4001 W. McNichols Road\, De
 troit\, MI\, 48221\, United States;X-APPLE-RADIUS=100;X-TITLE=Student Fitn
 ess Center:geo:0,0
END:VEVENT
BEGIN:VTIMEZONE
TZID:America/Detroit
X-LIC-LOCATION:America/Detroit
BEGIN:STANDARD
DTSTART:20221106T010000
TZOFFSETFROM:-0400
TZOFFSETTO:-0500
TZNAME:EST
END:STANDARD
END:VTIMEZONE
END:VCALENDAR