BEGIN:VCALENDAR
VERSION:2.0
PRODID:-//wp-events-plugin.com//6.4.6.4//EN
TZID:America/Detroit
X-WR-TIMEZONE:America/Detroit
BEGIN:VEVENT
UID:0-1027@sites.udmercy.edu
DTSTART;TZID=America/Detroit:20260212T170000
DTEND;TZID=America/Detroit:20260212T180000
DTSTAMP:20260209T151924Z
URL:https://sites.udmercy.edu/campusconnection/events/tommy-titans-birthda
 y-bash/
SUMMARY:Tommy Titan's birthday bash
DESCRIPTION:Tommy Titan’s birthday is almost here! \n\nAll are invited to
  stop by the Whitty Student Fitness Center on Thursday\, Feb. 12\, from 5-
 6 p.m.\, to enjoy cake and take a picture with the UDM’s fearless mascot
 . \n\nCake will be available while supplies last.
LOCATION:Whitty Student Fitness Center\, 4001 W. McNichols Road\, Detroit\,
  MI\, 48221\, United States
X-APPLE-STRUCTURED-LOCATION;VALUE=URI;X-ADDRESS=4001 W. McNichols Road\, De
 troit\, MI\, 48221\, United States;X-APPLE-RADIUS=100;X-TITLE=Whitty Stude
 nt Fitness Center:geo:0,0
END:VEVENT
BEGIN:VTIMEZONE
TZID:America/Detroit
X-LIC-LOCATION:America/Detroit
BEGIN:STANDARD
DTSTART:20251102T010000
TZOFFSETFROM:-0400
TZOFFSETTO:-0500
TZNAME:EST
END:STANDARD
END:VTIMEZONE
END:VCALENDAR