BEGIN:VCALENDAR
VERSION:2.0
PRODID:-//wp-events-plugin.com//6.4.6.4//EN
TZID:America/Detroit
X-WR-TIMEZONE:America/Detroit
BEGIN:VEVENT
UID:0-315@sites.udmercy.edu
DTSTART;TZID=America/Detroit:20231120T163000
DTEND;TZID=America/Detroit:20231120T163000
DTSTAMP:20231117T144507Z
URL:https://sites.udmercy.edu/campusconnection/events/transgender-day-of-r
 emembrance-service/
SUMMARY:Transgender Day of Remembrance service
DESCRIPTION:The Women’s and Gender Studies Program\, Office of Diversity\
 , Equity and Inclusion\, University Ministry and UDM Pride Club will gathe
 r for a short service in observation of Transgender Day of Remembrance on
  Monday\, Nov. 20 at 4:30 p.m.\n\nThe service will take place by the Peac
 e Pole in Sacred Heart Square\, just outside of the McNichols Campus Libra
 ry. All are welcome to attend.\n\nTransgender Day of Remembrance began in 
 1999 to honor Rita Hester\, a transgender woman killed in 1998. Since then
 \, it has been observed annually to raise awareness of transphobia and vio
 lence faced by the transgender community.\n\nStop by the McNichols Campus 
 Library to learn more about the history and experiences of transgender peo
 ple through its Transgender Day of Remembrance book display and other reso
 urces.
LOCATION:Peace Pole\, 4001 W. McNichols Road\, Detroit\, Michigan\, 48221\,
  United States
X-APPLE-STRUCTURED-LOCATION;VALUE=URI;X-ADDRESS=4001 W. McNichols Road\, De
 troit\, Michigan\, 48221\, United States;X-APPLE-RADIUS=100;X-TITLE=Peace 
 Pole:geo:0,0
END:VEVENT
BEGIN:VTIMEZONE
TZID:America/Detroit
X-LIC-LOCATION:America/Detroit
BEGIN:STANDARD
DTSTART:20231105T010000
TZOFFSETFROM:-0400
TZOFFSETTO:-0500
TZNAME:EST
END:STANDARD
END:VTIMEZONE
END:VCALENDAR