BEGIN:VCALENDAR
VERSION:2.0
PRODID:-//wp-events-plugin.com//6.4.6.4//EN
TZID:America/Detroit
X-WR-TIMEZONE:America/Detroit
BEGIN:VEVENT
UID:0-322@sites.udmercy.edu
DTSTART;TZID=America/Detroit:20231130T124500
DTEND;TZID=America/Detroit:20231130T140000
DTSTAMP:20231121T143744Z
URL:https://sites.udmercy.edu/campusconnection/events/travel-to-india-info
 -session-4/
SUMMARY:Travel to India info session
DESCRIPTION:Learn more about Detroit Mercy's Trip to India with an informat
 ion session during dead hour on Thursday\, Nov. 30 in Room 105 of the Brig
 gs Building.\n\nStop by anytime between 12:45-2 p.m. Nov. 30\, enjoy some 
 free samosas and explore the possibilities.\n\nAt the information session\
 , you'll learn more about the trip\, as well as grant opportunities.
LOCATION:Briggs Building\, Room 105\, 4001 W. McNichols Road\, Detroit\, Mi
 chigan\, 48221\, United States
X-APPLE-STRUCTURED-LOCATION;VALUE=URI;X-ADDRESS=4001 W. McNichols Road\, De
 troit\, Michigan\, 48221\, United States;X-APPLE-RADIUS=100;X-TITLE=Briggs
  Building\, Room 105:geo:0,0
END:VEVENT
BEGIN:VTIMEZONE
TZID:America/Detroit
X-LIC-LOCATION:America/Detroit
BEGIN:STANDARD
DTSTART:20231105T010000
TZOFFSETFROM:-0400
TZOFFSETTO:-0500
TZNAME:EST
END:STANDARD
END:VTIMEZONE
END:VCALENDAR