BEGIN:VCALENDAR
VERSION:2.0
PRODID:-//wp-events-plugin.com//6.4.6.4//EN
TZID:America/Detroit
X-WR-TIMEZONE:America/Detroit
BEGIN:VEVENT
UID:0-467@sites.udmercy.edu
DTSTART;TZID=America/Detroit:20240917T124500
DTEND;TZID=America/Detroit:20240917T124500
DTSTAMP:20240916T203323Z
URL:https://sites.udmercy.edu/campusconnection/events/travel-to-india-info
 -session-5/
SUMMARY:Travel to India info session
DESCRIPTION:Learn more about traveling to India with Detroit Mercy through 
 two information sessions this week. An in-person session will take place T
 uesday\, Sept. 17 at 12:45 p.m. in the Briggs Building\, Room 105. A virtu
 al info session is set for 6:30 p.m. Thursday\, Sept. 19.\n\nStudents will
  learn more about the trip dates\, costs\, and grant opportunities during 
 this meeting.\n\nVisit United Nations Educations\, Scientific and Cultural
  Organization (UNESCO) World Heritage sites in the cities of Delhi\, Jaipu
 r and Agra including a visit to the famous Taj Mahal.\nRegister for virtua
 l info session!
LOCATION:Briggs Building\, Room 105\, 4001 W. McNichols Road\, Detroit\, Mi
 chigan\, 48221\, United States
X-APPLE-STRUCTURED-LOCATION;VALUE=URI;X-ADDRESS=4001 W. McNichols Road\, De
 troit\, Michigan\, 48221\, United States;X-APPLE-RADIUS=100;X-TITLE=Briggs
  Building\, Room 105:geo:0,0
END:VEVENT
BEGIN:VTIMEZONE
TZID:America/Detroit
X-LIC-LOCATION:America/Detroit
BEGIN:DAYLIGHT
DTSTART:20240310T030000
TZOFFSETFROM:-0500
TZOFFSETTO:-0400
TZNAME:EDT
END:DAYLIGHT
END:VTIMEZONE
END:VCALENDAR