BEGIN:VCALENDAR
VERSION:2.0
PRODID:-//wp-events-plugin.com//6.4.6.4//EN
TZID:America/Detroit
X-WR-TIMEZONE:America/Detroit
BEGIN:VEVENT
UID:0-118@sites.udmercy.edu
DTSTART;TZID=America/Detroit:20221108T130000
DTEND;TZID=America/Detroit:20221108T130000
DTSTAMP:20221031T203122Z
URL:https://sites.udmercy.edu/campusconnection/events/travel-to-india-virt
 ual-informational-session/
SUMMARY:Travel to India virtual informational session
DESCRIPTION:Students of all majors as well as Detroit Mercy faculty\, staff
  and alumni are welcome to journey to India’s Golden Triangle — Jaipur
 \, New Delhi and Agra — in May of 2023 with the History Department and t
 he College of Liberal Arts and Education.\n\nLearn more during a virtual i
 nformational session over Zoom on Tuesday\, Nov. 8 at 1 p.m.\n\nFor more i
 nformation\, please contact Diane Robinson-Dunn at robinsod@udmercy.edu
 .\nRegister for virtual info session.
END:VEVENT
BEGIN:VTIMEZONE
TZID:America/Detroit
X-LIC-LOCATION:America/Detroit
BEGIN:STANDARD
DTSTART:20221106T010000
TZOFFSETFROM:-0400
TZOFFSETTO:-0500
TZNAME:EST
END:STANDARD
END:VTIMEZONE
END:VCALENDAR