BEGIN:VCALENDAR
VERSION:2.0
PRODID:-//wp-events-plugin.com//6.4.6.4//EN
TZID:America/Detroit
X-WR-TIMEZONE:America/Detroit
BEGIN:VEVENT
UID:0-662@sites.udmercy.edu
DTSTART;TZID=America/Detroit:20250320T183000
DTEND;TZID=America/Detroit:20250320T200000
DTSTAMP:20250107T175231Z
URL:https://sites.udmercy.edu/campusconnection/events/triptych-reading-ser
 ies-features-poet-aracelis-girmay/
SUMMARY:Triptych reading series features poet Aracelis Girmay
DESCRIPTION:Detroit Mercy's English Department welcomes poet Aracelis Girma
 y\, who will read her work for the 2025 Triptych series on Thursday\, Marc
 h 20 at 6:30 p.m. via Zoom.\n\nGirmay is the author of the poetry collecti
 ons the black maria (BOA\, 2016)\, Kingdom Animalia (BOA\, 2011) and Teeth
  (Curbstone\, 2007). For this work she was a finalist for the Neustadt Int
 ernational Prize for Literature\, the National Book Critics Circle Award\,
  the Hurston/Wright Legacy Award and the Connecticut Book Award. She has r
 eceived fellowships from the Whiting Foundation\, Civitella Ranieri\, the 
 National Endowment for the Arts and the Cave Canem Foundation\, among othe
 rs. Other recent work includes the chapbook and was a flower and the pict
 ure books What Do You Know? and Kamau and Zuzu Find A Way. Girmay is the e
 ditor of How to Carry Water: Selected Poems of Lucille Clifton (BOA\, 2020
 ) and So We Can Know: Writers of Color on Pregnancy\, Loss\, Abortion\, an
 d Birth (Haymarket Books\, 2023). She is a professor of English at Stanfor
 d University.\n\nNow in its third year\, Triptych is a virtual reading ser
 ies featuring award-winning poets in conversation with Detroit Mercy’s p
 oet-in-residence\, Stacy Gnall. Triptych events are held via Zoom on Thurs
 days from 6:30-8 p.m.\n\nTriptych readings are free and open to the commun
 ity. Please join us!\nRegister here!
END:VEVENT
BEGIN:VTIMEZONE
TZID:America/Detroit
X-LIC-LOCATION:America/Detroit
BEGIN:DAYLIGHT
DTSTART:20250309T030000
TZOFFSETFROM:-0500
TZOFFSETTO:-0400
TZNAME:EDT
END:DAYLIGHT
END:VTIMEZONE
END:VCALENDAR