BEGIN:VCALENDAR
VERSION:2.0
PRODID:-//wp-events-plugin.com//6.4.6.4//EN
TZID:America/Detroit
X-WR-TIMEZONE:America/Detroit
BEGIN:VEVENT
UID:0-333@sites.udmercy.edu
DTSTART;TZID=America/Detroit:20240118T183000
DTEND;TZID=America/Detroit:20240118T183000
DTSTAMP:20240104T221501Z
URL:https://sites.udmercy.edu/campusconnection/events/triptych-virtual-rea
 ding-srikanth-reddy/
SUMMARY:Triptych virtual reading: Srikanth Reddy
DESCRIPTION:Detroit Mercy's English Department welcomes back its Triptych s
 eries by hosting Srikanth Reddy\, author of Facts for Visitors\, on Thursd
 ay\, Jan. 18 at 6:30 p.m.\n\nReddy will read his work virtually followed b
 y audience questions. Interested participants are asked to register before
 hand.\n\nThe Triptych series is hosted by Detroit Mercy's Poet-in-Residenc
 e\, Stacy Gnall. All Triptych events are free and open to the community.\n
 \nFollowing Reddy's reading on Jan. 18\, Donika Kelly is the guest on Feb.
  15 and Farnaz Fatemi closes the three-author spring series on March 21\, 
 all at 6:30 p.m.\nRegister here!
END:VEVENT
BEGIN:VTIMEZONE
TZID:America/Detroit
X-LIC-LOCATION:America/Detroit
BEGIN:STANDARD
DTSTART:20231105T010000
TZOFFSETFROM:-0400
TZOFFSETTO:-0500
TZNAME:EST
END:STANDARD
END:VTIMEZONE
END:VCALENDAR