BEGIN:VCALENDAR
VERSION:2.0
PRODID:-//wp-events-plugin.com//6.4.6.4//EN
TZID:America/Detroit
X-WR-TIMEZONE:America/Detroit
BEGIN:VEVENT
UID:0-319@sites.udmercy.edu
DTSTART;TZID=America/Detroit:20231205T163000
DTEND;TZID=America/Detroit:20231205T163000
DTSTAMP:20231121T041017Z
URL:https://sites.udmercy.edu/campusconnection/events/university-chorus-co
 ncert-2/
SUMMARY:University Chorus concert
DESCRIPTION:The University Chorus will present a short concert featuring gr
 oup songs\, solos and more including show tunes and holiday favorites at 4
 :30 p.m. Tuesday\, Dec. 5.\n\nThe concert will take place inside the St. I
 gnatius Chapel. Admission is free for all!
LOCATION:St. Ignatius Chapel\, 4001 W. McNichols Road\, Detroit\, MI\, Unit
 ed States
X-APPLE-STRUCTURED-LOCATION;VALUE=URI;X-ADDRESS=4001 W. McNichols Road\, De
 troit\, MI\, United States;X-APPLE-RADIUS=100;X-TITLE=St. Ignatius Chapel:
 geo:0,0
END:VEVENT
BEGIN:VTIMEZONE
TZID:America/Detroit
X-LIC-LOCATION:America/Detroit
BEGIN:STANDARD
DTSTART:20231105T010000
TZOFFSETFROM:-0400
TZOFFSETTO:-0500
TZNAME:EST
END:STANDARD
END:VTIMEZONE
END:VCALENDAR