BEGIN:VCALENDAR
VERSION:2.0
PRODID:-//wp-events-plugin.com//6.4.6.4//EN
TZID:America/Detroit
X-WR-TIMEZONE:America/Detroit
BEGIN:VEVENT
UID:0-463@sites.udmercy.edu
DTSTART;TZID=America/Detroit:20240829T124500
DTEND;TZID=America/Detroit:20240829T140000
DTSTAMP:20240826T210331Z
URL:https://sites.udmercy.edu/campusconnection/events/university-ministry-
 kick-off-event/
SUMMARY:University Ministry kick-off event
DESCRIPTION:University Ministry is hosting a fun kick-off event to start th
 e new academic year.\n\nStop by the Fountain Terrace on Thursday\, Aug. 29
  from 12:45-2 p.m. to tie-dye shirts\, do crafts\, learn about University 
 Ministry and enjoy some yummy tacos!\n\nThis is a great opportunity to mee
 t the staff of University Ministry and get connected with other students.\
 n\nAll are welcome!
LOCATION:University Ministry Office\, Student Union\, 4001 W. McNichols Roa
 d\, Detroit\, Michigan\, 48221\, United States
X-APPLE-STRUCTURED-LOCATION;VALUE=URI;X-ADDRESS=4001 W. McNichols Road\, De
 troit\, Michigan\, 48221\, United States;X-APPLE-RADIUS=100;X-TITLE=Univer
 sity Ministry Office\, Student Union:geo:0,0
END:VEVENT
BEGIN:VTIMEZONE
TZID:America/Detroit
X-LIC-LOCATION:America/Detroit
BEGIN:DAYLIGHT
DTSTART:20240310T030000
TZOFFSETFROM:-0500
TZOFFSETTO:-0400
TZNAME:EDT
END:DAYLIGHT
END:VTIMEZONE
END:VCALENDAR