BEGIN:VCALENDAR
VERSION:2.0
PRODID:-//wp-events-plugin.com//6.4.6.4//EN
TZID:America/Detroit
X-WR-TIMEZONE:America/Detroit
BEGIN:VEVENT
UID:0-138@sites.udmercy.edu
DTSTART;TZID=America/Detroit:20230331T160000
DTEND;TZID=America/Detroit:20230401T160000
DTSTAMP:20230203T220600Z
URL:https://sites.udmercy.edu/campusconnection/events/university-ministrys
 -mens-retreat/
SUMMARY:University Ministry's Men's Retreat
DESCRIPTION:Gather\, reflect\, play games and get off campus with friends w
 ith a men's retreat\, hosted by University Ministry on Friday and Saturday
 \, March 31 and April 1\, 2023.\n\nThe retreat will be hosted at the De Sa
 les Retreat Center in Brooklyn\, Michigan.\n\nThe costs for the retreat is
  just $20\, with a $10 deposit due to the University Ministry office in th
 e Student Union\, a week prior to the retreat. All food and transportation
  will be provided.\n\nFor further information or with questions\, please r
 each out to University Minister for Faith Formation Anna Lawler at lawlera
 n@udmercy.edu.
LOCATION:De Sales Center\, 1198 Desales Drive\, Brooklyn\, Michigan\, 49230
 \, United States
X-APPLE-STRUCTURED-LOCATION;VALUE=URI;X-ADDRESS=1198 Desales Drive\, Brookl
 yn\, Michigan\, 49230\, United States;X-APPLE-RADIUS=100;X-TITLE=De Sales 
 Center:geo:0,0
END:VEVENT
BEGIN:VTIMEZONE
TZID:America/Detroit
X-LIC-LOCATION:America/Detroit
BEGIN:DAYLIGHT
DTSTART:20230312T030000
TZOFFSETFROM:-0500
TZOFFSETTO:-0400
TZNAME:EDT
END:DAYLIGHT
END:VTIMEZONE
END:VCALENDAR