BEGIN:VCALENDAR
VERSION:2.0
PRODID:-//wp-events-plugin.com//6.4.6.4//EN
TZID:America/Detroit
X-WR-TIMEZONE:America/Detroit
BEGIN:VEVENT
UID:0-139@sites.udmercy.edu
DTSTART;TZID=America/Detroit:20230331T100000
DTEND;TZID=America/Detroit:20230401T100000
DTSTAMP:20230203T220735Z
URL:https://sites.udmercy.edu/campusconnection/events/university-ministrys
 -womens-retreat/
SUMMARY:University Ministry's Women's Retreat
DESCRIPTION:Gather\, reflect and have fellowship\, play games and get away 
 from a campus for a bit with University Ministry‘s women’s retreat on
  Friday and Saturday\, March 31-April 1\, 2023.\n\nThe retreat is focusin
 g on the theme — Past\, Present and Future Selves. All transportation a
 nd food will be provided at the De Sales Center in Brooklyn\, Michigan. Th
 ere will be a variety of activities from art\, games and personal and grou
 p reflection.\n\nThe cost of the retreat is $20\, with a $10 deposit neede
 d to secure a spot one week prior at the University Ministry office in the
  Student Union. All food and transportation will be provided.\n\nWith ques
 tions or for more information\, please email University Minister for Faith
  Formation Anna Lawler at lawleran@udmercy.edu.
LOCATION:De Sales Center\, 1198 Desales Drive\, Brooklyn\, Michigan\, 49230
 \, United States
X-APPLE-STRUCTURED-LOCATION;VALUE=URI;X-ADDRESS=1198 Desales Drive\, Brookl
 yn\, Michigan\, 49230\, United States;X-APPLE-RADIUS=100;X-TITLE=De Sales 
 Center:geo:0,0
END:VEVENT
BEGIN:VTIMEZONE
TZID:America/Detroit
X-LIC-LOCATION:America/Detroit
BEGIN:DAYLIGHT
DTSTART:20230312T030000
TZOFFSETFROM:-0500
TZOFFSETTO:-0400
TZNAME:EDT
END:DAYLIGHT
END:VTIMEZONE
END:VCALENDAR