BEGIN:VCALENDAR
VERSION:2.0
PRODID:-//wp-events-plugin.com//6.4.6.4//EN
TZID:America/Detroit
X-WR-TIMEZONE:America/Detroit
BEGIN:VEVENT
UID:0-304@sites.udmercy.edu
DTSTART;TZID=America/Detroit:20231110T110000
DTEND;TZID=America/Detroit:20231110T110000
DTSTAMP:20231108T163350Z
URL:https://sites.udmercy.edu/campusconnection/events/veterans-day-recogni
 tion/
SUMMARY:Veterans Day recognition
DESCRIPTION:Detroit Mercy will honor Veterans Day on Friday\, Nov. 10 wit
 h a program at 11 a.m. in the College of Health Professions\, Room 124.\
 n\nThe program will recognize the contributions and sacrifices of those wh
 o have served to defend freedom and includes members of the armed forces\,
  including active members and reserve personnel.\n\nIn addition\, join Stu
 dent Life and the Campus Activities Board (CAB) in creating thank-you car
 ds for veterans on Tuesday\, Nov. 7 and Thursday\, Nov. 9 from 6-8 p.m.\n
 RSVP for the recognition.
LOCATION:College of Health Professions Building\, Room 124\, 4001 W. McNich
 ols Road\, Detroit\, Michigan\, 48221\, United States
X-APPLE-STRUCTURED-LOCATION;VALUE=URI;X-ADDRESS=4001 W. McNichols Road\, De
 troit\, Michigan\, 48221\, United States;X-APPLE-RADIUS=100;X-TITLE=Colleg
 e of Health Professions Building\, Room 124:geo:0,0
END:VEVENT
BEGIN:VTIMEZONE
TZID:America/Detroit
X-LIC-LOCATION:America/Detroit
BEGIN:STANDARD
DTSTART:20231105T010000
TZOFFSETFROM:-0400
TZOFFSETTO:-0500
TZNAME:EST
END:STANDARD
END:VTIMEZONE
END:VCALENDAR