BEGIN:VCALENDAR
VERSION:2.0
PRODID:-//wp-events-plugin.com//6.4.6.4//EN
TZID:America/Detroit
X-WR-TIMEZONE:America/Detroit
BEGIN:VEVENT
UID:0-614@sites.udmercy.edu
DTSTART;TZID=America/Detroit:20241111T110000
DTEND;TZID=America/Detroit:20241111T114500
DTSTAMP:20241105T204517Z
URL:https://sites.udmercy.edu/campusconnection/events/veterans-recognition
 -event/
SUMMARY:Veterans recognition event
DESCRIPTION:Please join Student Life and the Campus Activity Board to recog
 nize Veterans Day on Monday\, Nov. 11 at 11-11:45 a.m. in the Health Profe
 ssions Building\, Room 124. \n\nThis event will recognize the contribution
 s and sacrifices of those who have served to defend freedom and includes i
 ndividuals from the current Detroit Mercy Veteran Student Organization (UD
 MVSO). Gawana Mancil\, current organization president\, will discuss the i
 mportance of Veterans Day and how the UDMVSO impacts the students at Detro
 it Mercy. \n\nThis event is open to any individual at Detroit Mercy. Light
  refreshments will be provided.\nRSVP HERE!
LOCATION:College of Health Professions Building\, Room 124\, 4001 W. McNich
 ols Road\, Detroit\, Michigan\, 48221\, United States
X-APPLE-STRUCTURED-LOCATION;VALUE=URI;X-ADDRESS=4001 W. McNichols Road\, De
 troit\, Michigan\, 48221\, United States;X-APPLE-RADIUS=100;X-TITLE=Colleg
 e of Health Professions Building\, Room 124:geo:0,0
END:VEVENT
BEGIN:VTIMEZONE
TZID:America/Detroit
X-LIC-LOCATION:America/Detroit
BEGIN:STANDARD
DTSTART:20241103T010000
TZOFFSETFROM:-0400
TZOFFSETTO:-0500
TZNAME:EST
END:STANDARD
END:VTIMEZONE
END:VCALENDAR