BEGIN:VCALENDAR
VERSION:2.0
PRODID:-//wp-events-plugin.com//6.4.6.4//EN
TZID:America/Detroit
X-WR-TIMEZONE:America/Detroit
BEGIN:VEVENT
UID:0-682@sites.udmercy.edu
DTSTART;TZID=America/Detroit:20250226T173000
DTEND;TZID=America/Detroit:20250226T173000
DTSTAMP:20250217T212047Z
URL:https://sites.udmercy.edu/campusconnection/events/virtual-creative-wri
 ting-collective-2/
SUMMARY:Virtual Creative Writing Collective
DESCRIPTION:Detroit Mercy students\, staff\, faculty\, alumni and friends a
 re invited to join a special online gathering of UDM’s Creative Writing 
 Collective (CWC) on Wednesday\, Feb. 26 at 5:30 p.m. Please register belo
 w and a Zoom link will be provided.\n\nAssociate Professor of English Rose
 mary Weatherston will lead a conversation on “Monsters and the Monstrous
 .”\n\nNo writing experience is necessary to join the CWC! You are welcom
 e if you have an interest in exploring or developing your creative inclina
 tions.\n\nSave the date for future Creative Writing Collective dates this 
 semester: Monday\, March 24\, 5:30 p.m.\, Briggs Building\, Room 301.\n\nP
 lease contact english@udmercy.edu with questions or to join the CWC maili
 ng list.\n\nKeep up with the Detroit Mercy English Department on Instagram
  and Facebook @detroitmercyenglish.\nRegister here!
END:VEVENT
BEGIN:VTIMEZONE
TZID:America/Detroit
X-LIC-LOCATION:America/Detroit
BEGIN:STANDARD
DTSTART:20241103T010000
TZOFFSETFROM:-0400
TZOFFSETTO:-0500
TZNAME:EST
END:STANDARD
END:VTIMEZONE
END:VCALENDAR