BEGIN:VCALENDAR
VERSION:2.0
PRODID:-//wp-events-plugin.com//6.4.6.4//EN
TZID:America/Detroit
X-WR-TIMEZONE:America/Detroit
BEGIN:VEVENT
UID:0-128@sites.udmercy.edu
DTSTART;TZID=America/Detroit:20221117T170000
DTEND;TZID=America/Detroit:20221117T183000
DTSTAMP:20221114T161812Z
URL:https://sites.udmercy.edu/campusconnection/events/virtual-creative-wri
 ting-collective/
SUMMARY:Virtual Creative Writing Collective
DESCRIPTION:Detroit Mercy's English Department invites you to join us for a
  special virtual gathering of the Creative Writing Collective! The meeting
  takes place Thursday\, Nov. 17 at 5 p.m.\n\nAll students\, staff\, alumni
 \, faculty and friends are welcome. No writing experience is necessary\, j
 ust an interest in exploring and developing your creative inclinations.\n\
 nRSVP for the virtual gathering via Eventbrite. Attendees will receive the
  Zoom link on the day of the event.\n\nAssociate Professor of English Rose
 mary Weatherston will lead a conversation about writing for\, with and bey
 ond the six senses.\n\nContact: Email english@udmercy.edu with questions o
 r to join the CWC mailing list.\n\nKeep up with us: Creative Writing Colle
 ctive (@detroitmercywriters) and Detroit Mercy English on Instagram and Fa
 cebook (@detroitmercyenglish).\nCreative Writing Collective.
END:VEVENT
BEGIN:VTIMEZONE
TZID:America/Detroit
X-LIC-LOCATION:America/Detroit
BEGIN:STANDARD
DTSTART:20221106T010000
TZOFFSETFROM:-0400
TZOFFSETTO:-0500
TZNAME:EST
END:STANDARD
END:VTIMEZONE
END:VCALENDAR