BEGIN:VCALENDAR
VERSION:2.0
PRODID:-//wp-events-plugin.com//6.4.6.4//EN
TZID:America/Detroit
X-WR-TIMEZONE:America/Detroit
BEGIN:VEVENT
UID:0-720@sites.udmercy.edu
DTSTART;TZID=America/Detroit:20250211T124500
DTEND;TZID=America/Detroit:20250211T140000
DTSTAMP:20250203T143508Z
URL:https://sites.udmercy.edu/campusconnection/events/virtual-healing-sess
 ion-for-equity-and-inclusion-leaders-in-stem/
SUMMARY:Virtual healing session for equity and inclusion leaders in STEM
DESCRIPTION:The ReBUILDetroit Learning Community on Identity Formation is h
 osting a virtual healing session for equity and inclusion leaders in STEM 
 led by Sarina Saturn\, neuroscientist and editor of the ADVANCE Journal\, 
 on Tuesday\, Feb. 11 at 12:45 p.m. This event is co-hosted by the Inclusiv
 e Teaching Learning Community.\n\nDuring this session\, we will:\n\n 	Reco
 gnize the impact of trauma on our brains and physiology and resultant impa
 cts on personal and professional well-being\n 	Apply neuroscience-informed
  techniques to enhance emotional resilience and cope with the challenges o
 f equity-centered leadership roles\n 	Cultivate sustainable self-care stra
 tegies\, including the use of contemplative-based exercises\, somatic tuni
 ng\, self-compassion and creativity\n 	Foster collective healing through c
 ommunities of support and solidarity among leaders working toward equity a
 nd inclusion in STEM.\n\nPlease register by Feb. 5. Zoom link will be prov
 ided upon registration.\n\nFor more information or questions\, please cont
 act Assistant Professor of Physics Hiba Assi at assihi@udmercy.edu.\nRegi
 ster Here!
END:VEVENT
BEGIN:VTIMEZONE
TZID:America/Detroit
X-LIC-LOCATION:America/Detroit
BEGIN:STANDARD
DTSTART:20241103T010000
TZOFFSETFROM:-0400
TZOFFSETTO:-0500
TZNAME:EST
END:STANDARD
END:VTIMEZONE
END:VCALENDAR