BEGIN:VCALENDAR
VERSION:2.0
PRODID:-//wp-events-plugin.com//6.4.6.4//EN
TZID:America/Detroit
X-WR-TIMEZONE:America/Detroit
BEGIN:VEVENT
UID:0-1035@sites.udmercy.edu
DTSTART;TZID=America/Detroit:20260225T180000
DTEND;TZID=America/Detroit:20260225T180000
DTSTAMP:20260212T220553Z
URL:https://sites.udmercy.edu/campusconnection/events/virtual-information-
 sessions-offered-on-post-graduate-certificate-in-addiction-studies/
SUMMARY:Virtual information session on Post-Graduate Certificate in Addicti
 on Studies
DESCRIPTION:Learn more about Detroit Mercy's Post-Graduate Certificate in A
 ddiction Studies program by attending an upcoming virtual information sess
 ion. During the session\, you will meet the program director\, watch a pre
 sentation and have the opportunity to ask questions.\n\nSessions will be o
 ffered on the following dates:\n\n 	Wednesday\, Feb. 25 at 6 p.m.\n 	Wedne
 sday\, March 25 at noon\n\nRegister here.
LOCATION:https://apply.udmercy.edu/portal/clae-graduate-open-house
END:VEVENT
BEGIN:VTIMEZONE
TZID:America/Detroit
X-LIC-LOCATION:America/Detroit
BEGIN:STANDARD
DTSTART:20251102T010000
TZOFFSETFROM:-0400
TZOFFSETTO:-0500
TZNAME:EST
END:STANDARD
END:VTIMEZONE
END:VCALENDAR