BEGIN:VCALENDAR
VERSION:2.0
PRODID:-//wp-events-plugin.com//6.4.6.4//EN
TZID:America/Detroit
X-WR-TIMEZONE:America/Detroit
BEGIN:VEVENT
UID:0-348@sites.udmercy.edu
DTSTART;TZID=America/Detroit:20240206T150000
DTEND;TZID=America/Detroit:20240206T180000
DTSTAMP:20240126T160837Z
URL:https://sites.udmercy.edu/campusconnection/events/winter-career-and-co
 -op-fair/
SUMMARY:Winter career and co-op fair
DESCRIPTION:The Center for Career &amp\; Professional Development and the C
 ollege of Engineering &amp\; Science is set to host the 2024 Winter Career
  and Co-op Fair on Tuesday\, Feb. 6 from 3-6 p.m.\n\nThe fair will be held
  inside of the Student Union Ballroom and is open to all current students 
 as well as recent UDM graduates.\n\nSponsored by Alliance Catholic Credit 
 Union\, the fair features more than 65 organizations and is a great opport
 unity for students to meet with a variety of employers as well as graduate
  schools to discuss full-time employment\, graduate school options\, co-op
  and internship positions as well as volunteering opportunities.\n\nFor mo
 re information or with any questions\, please contact the Center for Caree
 r &amp\; Professional Development directly at 313-993-1017 or by email at 
 careerlink@udmercy.edu.\n\nStudents may register on Handshake.\nMore: Wint
 er 2024 Career &amp\; Co-op Fair.
LOCATION:Student Union Ballroom\, McNichols Campus\, 4001 W. McNichols\, De
 troit\, MI\, 48221\, United States
X-APPLE-STRUCTURED-LOCATION;VALUE=URI;X-ADDRESS=4001 W. McNichols\, Detroit
 \, MI\, 48221\, United States;X-APPLE-RADIUS=100;X-TITLE=Student Union Bal
 lroom\, McNichols Campus:geo:0,0
END:VEVENT
BEGIN:VTIMEZONE
TZID:America/Detroit
X-LIC-LOCATION:America/Detroit
BEGIN:STANDARD
DTSTART:20231105T010000
TZOFFSETFROM:-0400
TZOFFSETTO:-0500
TZNAME:EST
END:STANDARD
END:VTIMEZONE
END:VCALENDAR