BEGIN:VCALENDAR
VERSION:2.0
PRODID:-//wp-events-plugin.com//6.4.6.4//EN
TZID:America/Detroit
X-WR-TIMEZONE:America/Detroit
BEGIN:VEVENT
UID:0-721@sites.udmercy.edu
DTSTART;TZID=America/Detroit:20250213T150000
DTEND;TZID=America/Detroit:20250213T180000
DTSTAMP:20250204T134609Z
URL:https://sites.udmercy.edu/campusconnection/events/winter-career-co-op-
 fair-2/
SUMMARY:Winter career &amp\; co-op fair
DESCRIPTION:The Center for Career &amp\; Professional Development and the C
 ollege of Engineering &amp\; Science will host the 2025 Winter Career and 
 Co-op Fair on Thursday\, Feb. 13 from 3-6 p.m. All majors are welcome to a
 ttend!\n\nThe fair will be held inside of the Student Union Ballroom and i
 s open to all current students as well as recent UDM graduates.\n\nSponsor
 ed by Alliance Catholic Credit Union\, the fair features more than 60 orga
 nizations and is a great opportunity for students to meet with a variety o
 f employers as well as graduate schools to discuss full-time employment\, 
 graduate school options\, co-op and internship positions as well as volunt
 eering opportunities.\n\nFor more information or with any questions\, plea
 se visit the Center for Career &amp\; Professional Development or call 313
 -993-1017 or email careerlink@udmercy.edu. Current students may pre-regist
 er through their Handshake accounts.\nPre-register now!
LOCATION:Student Union Ballroom\, McNichols Campus\, 4001 W. McNichols\, De
 troit\, MI\, 48221\, United States
X-APPLE-STRUCTURED-LOCATION;VALUE=URI;X-ADDRESS=4001 W. McNichols\, Detroit
 \, MI\, 48221\, United States;X-APPLE-RADIUS=100;X-TITLE=Student Union Bal
 lroom\, McNichols Campus:geo:0,0
END:VEVENT
BEGIN:VTIMEZONE
TZID:America/Detroit
X-LIC-LOCATION:America/Detroit
BEGIN:STANDARD
DTSTART:20241103T010000
TZOFFSETFROM:-0400
TZOFFSETTO:-0500
TZNAME:EST
END:STANDARD
END:VTIMEZONE
END:VCALENDAR