BEGIN:VCALENDAR
VERSION:2.0
PRODID:-//wp-events-plugin.com//6.4.6.4//EN
TZID:America/Detroit
X-WR-TIMEZONE:America/Detroit
BEGIN:VEVENT
UID:0-344@sites.udmercy.edu
DTSTART;TZID=America/Detroit:20240131T170000
DTEND;TZID=America/Detroit:20240131T170000
DTSTAMP:20240117T170443Z
URL:https://sites.udmercy.edu/campusconnection/events/women-engineers-shar
 e-industry-experiences/
SUMMARY:Women engineers share industry experiences
DESCRIPTION:Join Detroit Mercy’s Society of Women Engineers and Office of
  Title IX for a discussion of women’s experiences in the engineering ind
 ustry on Wednesday\, Jan. 31 at 5 p.m.\n\nThree practicing women engineer
 s will share their stories\, insights\, and advice for succeeding in a mal
 e-dominated field\, following by a Q&amp\;A. Pizza and snacks will also be
  provided!\n\nThe meeting will be held in the Engineering Building on the 
 McNichols Campus\, in Room 134.
LOCATION:Engineering Building\, Room 134\, 4001 W. McNichols Road\, Detroit
 \, Michigan\, 48221\, United States
X-APPLE-STRUCTURED-LOCATION;VALUE=URI;X-ADDRESS=4001 W. McNichols Road\, De
 troit\, Michigan\, 48221\, United States;X-APPLE-RADIUS=100;X-TITLE=Engine
 ering Building\, Room 134:geo:0,0
END:VEVENT
BEGIN:VTIMEZONE
TZID:America/Detroit
X-LIC-LOCATION:America/Detroit
BEGIN:STANDARD
DTSTART:20231105T010000
TZOFFSETFROM:-0400
TZOFFSETTO:-0500
TZNAME:EST
END:STANDARD
END:VTIMEZONE
END:VCALENDAR