BEGIN:VCALENDAR
VERSION:2.0
PRODID:-//wp-events-plugin.com//6.4.6.4//EN
TZID:America/Detroit
X-WR-TIMEZONE:America/Detroit
BEGIN:VEVENT
UID:0-766@sites.udmercy.edu
DTSTART;TZID=America/Detroit:20250304T190000
DTEND;TZID=America/Detroit:20250304T190000
DTSTAMP:20250303T205215Z
URL:https://sites.udmercy.edu/campusconnection/events/womens-basketball-vs
 -milwaukee-3/
SUMMARY:Women's basketball vs. Milwaukee
DESCRIPTION:The Titans women's basketball team hosts a first-round contest 
 of the 2025 Barbasol Horizon League Championships 7 p.m. Tuesday\, March 4
 \, taking on No. 11-seeded Milwaukee inside of Calihan Hall. The Titans fi
 nished the regular season as the No. 6 seed.\n\nUDM head coach Kate Achter
  will give a chalk talk in the Titan Club at 6 p.m. when doors open\, with
  free Buddy's Pizza available for the attendees. With a victory\, the Tita
 ns would advance to the quarterfinals of the tournament.\n\nTickets for th
 e game are FREE for students with their student ID and $10 for the general
  public. Senior citizens and children gain admission for $5. All tickets c
 an be purchased online at www.detroittitans.com/tix.
LOCATION:Calihan Hall\, 4001 W. McNichols Road\, Detroit\, Michigan\, 48221
 \, United States
X-APPLE-STRUCTURED-LOCATION;VALUE=URI;X-ADDRESS=4001 W. McNichols Road\, De
 troit\, Michigan\, 48221\, United States;X-APPLE-RADIUS=100;X-TITLE=Caliha
 n Hall:geo:0,0
END:VEVENT
BEGIN:VTIMEZONE
TZID:America/Detroit
X-LIC-LOCATION:America/Detroit
BEGIN:STANDARD
DTSTART:20241103T010000
TZOFFSETFROM:-0400
TZOFFSETTO:-0500
TZNAME:EST
END:STANDARD
END:VTIMEZONE
END:VCALENDAR