BEGIN:VCALENDAR
VERSION:2.0
PRODID:-//wp-events-plugin.com//6.4.6.4//EN
TZID:America/Detroit
X-WR-TIMEZONE:America/Detroit
BEGIN:VEVENT
UID:0-591@sites.udmercy.edu
DTSTART;TZID=America/Detroit:20250227T190000
DTEND;TZID=America/Detroit:20250227T190000
DTSTAMP:20241030T174406Z
URL:https://sites.udmercy.edu/campusconnection/events/womens-basketball-vs
 -northern-kentucky-2/
SUMMARY:Women's basketball vs. Northern Kentucky
DESCRIPTION:The Detroit Mercy women's basketball team hosts Northern Kentuc
 ky from Calihan Hall. For the full season schedule\, visit detroittitans.c
 om!
LOCATION:Calihan Hall\, 4001 W. McNichols Road\, Detroit\, Michigan\, 48221
 \, United States
X-APPLE-STRUCTURED-LOCATION;VALUE=URI;X-ADDRESS=4001 W. McNichols Road\, De
 troit\, Michigan\, 48221\, United States;X-APPLE-RADIUS=100;X-TITLE=Caliha
 n Hall:geo:0,0
END:VEVENT
BEGIN:VTIMEZONE
TZID:America/Detroit
X-LIC-LOCATION:America/Detroit
BEGIN:STANDARD
DTSTART:20241103T010000
TZOFFSETFROM:-0400
TZOFFSETTO:-0500
TZNAME:EST
END:STANDARD
END:VTIMEZONE
END:VCALENDAR