BEGIN:VCALENDAR
VERSION:2.0
PRODID:-//wp-events-plugin.com//6.4.6.4//EN
TZID:America/Detroit
X-WR-TIMEZONE:America/Detroit
BEGIN:VEVENT
UID:0-587@sites.udmercy.edu
DTSTART;TZID=America/Detroit:20250125T130000
DTEND;TZID=America/Detroit:20250125T130000
DTSTAMP:20241030T174051Z
URL:https://sites.udmercy.edu/campusconnection/events/womens-basketball-vs
 -robert-morris-3/
SUMMARY:Women's basketball vs. Robert Morris
DESCRIPTION:The Detroit Mercy women's basketball team hosts Robert Morris f
 rom Calihan Hall. For the full season schedule\, visit detroittitans.com!
LOCATION:Calihan Hall\, 4001 W. McNichols Road\, Detroit\, Michigan\, 48221
 \, United States
X-APPLE-STRUCTURED-LOCATION;VALUE=URI;X-ADDRESS=4001 W. McNichols Road\, De
 troit\, Michigan\, 48221\, United States;X-APPLE-RADIUS=100;X-TITLE=Caliha
 n Hall:geo:0,0
END:VEVENT
BEGIN:VTIMEZONE
TZID:America/Detroit
X-LIC-LOCATION:America/Detroit
BEGIN:STANDARD
DTSTART:20241103T010000
TZOFFSETFROM:-0400
TZOFFSETTO:-0500
TZNAME:EST
END:STANDARD
END:VTIMEZONE
END:VCALENDAR