BEGIN:VCALENDAR
VERSION:2.0
PRODID:-//wp-events-plugin.com//6.4.6.4//EN
TZID:America/Detroit
X-WR-TIMEZONE:America/Detroit
BEGIN:VEVENT
UID:0-596@sites.udmercy.edu
DTSTART;TZID=America/Detroit:20241103T130000
DTEND;TZID=America/Detroit:20241103T130000
DTSTAMP:20241101T012117Z
URL:https://sites.udmercy.edu/campusconnection/events/womens-soccer-in-hor
 izon-league-quarterfinals/
SUMMARY:Women's soccer in Horizon League Quarterfinals
DESCRIPTION:The Titan women's soccer team\, the No. 3 seed in the Horizon L
 eague Championships\, hosts a first-round playoff matchup Sunday\, Nov. 3 
 against Purdue Fort Wayne. The opening kick is set for 1 p.m. from Titan F
 ield.
LOCATION:Titan Field\, 4001 W. McNichols Road\, Detroit\, Michigan\, 48221\
 , United States
X-APPLE-STRUCTURED-LOCATION;VALUE=URI;X-ADDRESS=4001 W. McNichols Road\, De
 troit\, Michigan\, 48221\, United States;X-APPLE-RADIUS=100;X-TITLE=Titan 
 Field:geo:0,0
END:VEVENT
BEGIN:VTIMEZONE
TZID:America/Detroit
X-LIC-LOCATION:America/Detroit
BEGIN:STANDARD
DTSTART:20241103T010000
TZOFFSETFROM:-0400
TZOFFSETTO:-0500
TZNAME:EST
END:STANDARD
END:VTIMEZONE
END:VCALENDAR