BEGIN:VCALENDAR
VERSION:2.0
PRODID:-//wp-events-plugin.com//6.4.6.4//EN
TZID:America/Detroit
X-WR-TIMEZONE:America/Detroit
BEGIN:VEVENT
UID:0-765@sites.udmercy.edu
DTSTART;TZID=America/Detroit:20250311T124500
DTEND;TZID=America/Detroit:20250311T134500
DTSTAMP:20250227T192351Z
URL:https://sites.udmercy.edu/campusconnection/events/zoom-discusion-on-ma
 naging-gender-inequity-in-academia/
SUMMARY:Zoom discusion on managing gender inequity in academia
DESCRIPTION:The Department of Political Science and the Women's and Gender 
 Studies Program at Detroit Mercy are hosting a discussion in honor of Inte
 rnational Women’s Month on Tuesday\, March 11 at 12:45 p.m. via Zoom. Th
 is year’s theme is “Accelerate Action.” The theme calls for action t
 o speed up gender equality in all spheres. In line with this theme\, we wi
 ll discuss mechanisms for managing gender inequity in academia.\n\nGina Sc
 utelnicu Todoran\, professor of Public Administration at Pace University i
 n New York\, will lead the discussion and share insights from her book Man
 aging Gender Inequity in Academia.\n\nScutelnicu Todoran has a Ph.D. in Pu
 blic Affairs from Florida International University and is the chair of the
  Northeastern Conference of Public Administration. Scutelnicu Todoran's re
 search in gender and social equity has appeared in highly regarded journal
 s in the field such as the Journal of Public Integrity and Public Adminis
 tration Quarterly\, on which she also serves as associate editor\, and Pub
 lic Management and Social Policy and Public Administration Review. Scuteln
 icu Todoran has authored over 35 publications for both academic and practi
 tioner audiences.\n\nPlease register at the link below\, and you will rece
 ive a confirmation email with information about joining the discussion.\n\
 nFor more information or any questions\, please contact Department Chair a
 nd Associate Professor of Political Science Genevieve Meyers at meyersge@u
 dmercy.edu.\nRegister here.
END:VEVENT
BEGIN:VTIMEZONE
TZID:America/Detroit
X-LIC-LOCATION:America/Detroit
BEGIN:DAYLIGHT
DTSTART:20250309T030000
TZOFFSETFROM:-0500
TZOFFSETTO:-0400
TZNAME:EDT
END:DAYLIGHT
END:VTIMEZONE
END:VCALENDAR