BEGIN:VCALENDAR
VERSION:2.0
PRODID:-//wp-events-plugin.com//6.4.6.4//EN
TZID:America/Detroit
X-WR-TIMEZONE:America/Detroit
BEGIN:VEVENT
UID:0-1033@sites.udmercy.edu
DTSTART;TZID=America/Detroit:20260226T130000
DTEND;TZID=America/Detroit:20260226T140000
DTSTAMP:20260211T141107Z
URL:https://sites.udmercy.edu/campusconnection/events/zumba-class-3/
SUMMARY:Zumba class
DESCRIPTION:Grab a friend and turn dead hour into dance hour. Head over to 
 the Whitty Student Fitness Center on Thursday\, Feb. 19 and 26\, from 1-2 
 p.m.\, and transform your mid-day slump into a energizing Zumba workout wi
 th great music and even better vibes.\n\nThe class takes place in Group X 
 Room. Spots are limited.\nReserve your spot now.
LOCATION:Whitty Student Fitness Center\, Group X Room\, 4001 W. McNichols R
 oad\, Detroit\, MI\, 48221\, United States
X-APPLE-STRUCTURED-LOCATION;VALUE=URI;X-ADDRESS=4001 W. McNichols Road\, De
 troit\, MI\, 48221\, United States;X-APPLE-RADIUS=100;X-TITLE=Whitty Stude
 nt Fitness Center\, Group X Room:geo:0,0
END:VEVENT
BEGIN:VTIMEZONE
TZID:America/Detroit
X-LIC-LOCATION:America/Detroit
BEGIN:STANDARD
DTSTART:20251102T010000
TZOFFSETFROM:-0400
TZOFFSETTO:-0500
TZNAME:EST
END:STANDARD
END:VTIMEZONE
END:VCALENDAR