BEGIN:VCALENDAR
VERSION:2.0
PRODID:-//wp-events-plugin.com//6.4.6.4//EN
TZID:America/Detroit
X-WR-TIMEZONE:America/Detroit
BEGIN:VEVENT
UID:0-743@sites.udmercy.edu
DTSTART;TZID=America/Detroit:20250224T130000
DTEND;TZID=America/Detroit:20250224T140000
DTSTAMP:20250217T191449Z
URL:https://sites.udmercy.edu/campusconnection/events/zumba-class/
SUMMARY:Zumba class
DESCRIPTION:Looking for a fun way to stay active? Join us for an afternoon 
 Zumba class on Monday\, Feb. 24 at 1-2 p.m. in the Student Fitness Center 
 as part of the Go Move Challenge! This high-energy dance workout is the pe
 rfect way to break up your day\, get your heart pumping and have fun while
  moving to great music. No experience needed—just bring your energy and 
 let's move!\n\nWhether you're aiming to rack up more minutes for the Go Mo
 ve Challenge or just want a great midday workout\, this class is for you. 
 Grab a friend and come dance with us!\nSign up here!
LOCATION:Student Fitness Center\, 4001 W. McNichols Road\, Detroit\, MI\, 4
 8221\, United States
X-APPLE-STRUCTURED-LOCATION;VALUE=URI;X-ADDRESS=4001 W. McNichols Road\, De
 troit\, MI\, 48221\, United States;X-APPLE-RADIUS=100;X-TITLE=Student Fitn
 ess Center:geo:0,0
END:VEVENT
BEGIN:VTIMEZONE
TZID:America/Detroit
X-LIC-LOCATION:America/Detroit
BEGIN:STANDARD
DTSTART:20241103T010000
TZOFFSETFROM:-0400
TZOFFSETTO:-0500
TZNAME:EST
END:STANDARD
END:VTIMEZONE
END:VCALENDAR